BEGIN:VCALENDAR
VERSION:2.0
CALSCALE:GREGORIAN
PRODID:-//hacksw/handcal//NONSGML v1.0//EN
BEGIN:VEVENT
UID:4a9e94e7-d2cc-4966-9318-a952b848c21b
DTSTAMP:20231130T161156Z
DTSTART:20240708T080000
DTEND:20240708T090000
SUMMARY:Breakfast and coffee (in front of the lecture room)
DESCRIPTION:
END:VEVENT
BEGIN:VEVENT
UID:1d8144cb-0b5a-4e1d-adb9-3f8491ee1c63
DTSTAMP:20231130T161156Z
DTSTART:20240708T090000
DTEND:20240708T100000
SUMMARY:Lecture 1.a: Blitvic
DESCRIPTION:Blitvic, Positivity Everywhere
END:VEVENT
BEGIN:VEVENT
UID:9a3b1380-997e-4560-b1e3-3b9d284d7a1e
DTSTAMP:20231130T161156Z
DTSTART:20240708T100000
DTEND:20240708T103000
SUMMARY:Coffee Break
DESCRIPTION:
END:VEVENT
BEGIN:VEVENT
UID:4ad4d8a0-3e4a-4d2d-b8c6-2afeccf4b39f
DTSTAMP:20231130T161156Z
DTSTART:20240708T103000
DTEND:20240708T120000
SUMMARY:Problem Session 1.a: Kammoun
DESCRIPTION:Kammoun, Positivity Everywhere
END:VEVENT
BEGIN:VEVENT
UID:6cef8d75-8a32-4fce-a5e4-660b73b4d860
DTSTAMP:20231130T161156Z
DTSTART:20240708T120000
DTEND:20240708T140000
SUMMARY:Organized lunch at Newcomb
DESCRIPTION:
END:VEVENT
BEGIN:VEVENT
UID:2a3b4d2b-9741-4767-a1bc-fd65d87eb15d
DTSTAMP:20231130T161156Z
DTSTART:20240708T140000
DTEND:20240708T150000
SUMMARY:Lecture 2.a: Quastel
DESCRIPTION:Quastel, The KPZ Fixed Point
END:VEVENT
BEGIN:VEVENT
UID:4d3ac1e4-408c-4224-8315-3b1c3f419674
DTSTAMP:20231130T161156Z
DTSTART:20240708T150000
DTEND:20240708T153000
SUMMARY:Coffee Break
DESCRIPTION:
END:VEVENT
BEGIN:VEVENT
UID:9d342705-6935-4f2f-910a-ada826438367
DTSTAMP:20231130T161156Z
DTSTART:20240708T153000
DTEND:20240708T170000
SUMMARY:Problem Session 2.a: Zhang
DESCRIPTION:Zhang, The KPZ Fixed Point
END:VEVENT
BEGIN:VEVENT
UID:a9e582ad-7611-4f7c-b059-829c3b7ccf04
DTSTAMP:20231130T161156Z
DTSTART:20240709T080000
DTEND:20240709T090000
SUMMARY:Breakfast and coffee (in front of the lecture room)
DESCRIPTION:
END:VEVENT
BEGIN:VEVENT
UID:376414ff-f69d-4877-879a-468a530b8eca
DTSTAMP:20231130T161156Z
DTSTART:20240709T090000
DTEND:20240709T100000
SUMMARY:Lecture 2.b: Quastel
DESCRIPTION:Quastel, The KPZ Fixed Point
END:VEVENT
BEGIN:VEVENT
UID:a85eb256-5da1-43c0-9b12-439a19e4cf00
DTSTAMP:20231130T161156Z
DTSTART:20240709T100000
DTEND:20240709T103000
SUMMARY:Coffee Break
DESCRIPTION:
END:VEVENT
BEGIN:VEVENT
UID:f9ecada4-2e78-4d55-bc51-d99c7150b91e
DTSTAMP:20231130T161156Z
DTSTART:20240709T103000
DTEND:20240709T120000
SUMMARY:Problem Session 2.b: Zhang
DESCRIPTION:Zhang, The KPZ Fixed Point
END:VEVENT
BEGIN:VEVENT
UID:6f3403d9-34b4-4432-a8e7-d88a8494d7ad
DTSTAMP:20231130T161156Z
DTSTART:20240709T120000
DTEND:20240709T140000
SUMMARY:Group photo, followed by organized lunch at Newcomb
DESCRIPTION:
END:VEVENT
BEGIN:VEVENT
UID:9b80c03e-135d-4690-8ce2-d2e083cf9e60
DTSTAMP:20231130T161156Z
DTSTART:20240709T140000
DTEND:20240709T150000
SUMMARY:Lecture 1.b: Blitvic
DESCRIPTION:Blitvic, Positivity Everywhere
END:VEVENT
BEGIN:VEVENT
UID:012c9831-684e-4b0d-8f76-010ff0e02bd0
DTSTAMP:20231130T161156Z
DTSTART:20240709T150000
DTEND:20240709T153000
SUMMARY:Coffee Break
DESCRIPTION:
END:VEVENT
BEGIN:VEVENT
UID:5101668e-7754-4d83-be63-a27855cba684
DTSTAMP:20231130T161156Z
DTSTART:20240709T153000
DTEND:20240709T170000
SUMMARY:Problem Session 1.b: Kammoun
DESCRIPTION:Kammoun, Positivity Everywhere
END:VEVENT
BEGIN:VEVENT
UID:1ec8eba6-bb3d-48c3-9fcd-70b62693b702
DTSTAMP:20231130T161156Z
DTSTART:20240710T080000
DTEND:20240710T090000
SUMMARY:Breakfast and coffee (in front of the lecture room)
DESCRIPTION:
END:VEVENT
BEGIN:VEVENT
UID:7d21d74b-f06f-46ab-82d0-f897baad2907
DTSTAMP:20231130T161156Z
DTSTART:20240710T090000
DTEND:20240710T100000
SUMMARY:Lecture 1.c: Blitvic
DESCRIPTION:Blitvic, Positivity Everywhere
END:VEVENT
BEGIN:VEVENT
UID:1b7591b4-6def-4179-9131-1b1c3899d7ce
DTSTAMP:20231130T161156Z
DTSTART:20240710T100000
DTEND:20240710T103000
SUMMARY:Coffee Break
DESCRIPTION:
END:VEVENT
BEGIN:VEVENT
UID:f9323557-2ebe-4e4b-b43a-bc9cbe36f5d4
DTSTAMP:20231130T161156Z
DTSTART:20240710T103000
DTEND:20240710T113000
SUMMARY:Participant Talks
DESCRIPTION:
END:VEVENT
BEGIN:VEVENT
UID:fc3fd281-f40b-4f23-b71e-541864b3733a
DTSTAMP:20231130T161156Z
DTSTART:20240710T113000
DTEND:20240710T120000
SUMMARY:Coffee Break
DESCRIPTION:
END:VEVENT
BEGIN:VEVENT
UID:7a095c42-4ef3-48f7-bc5b-25dbb73bf675
DTSTAMP:20231130T161156Z
DTSTART:20240710T120000
DTEND:20240710T133000
SUMMARY:Problem Session 1.c: Kammoun
DESCRIPTION:Kammoun, Positivity Everywhere
END:VEVENT
BEGIN:VEVENT
UID:bf87007e-543d-4ae0-937f-c3768dc16847
DTSTAMP:20231130T161156Z
DTSTART:20240711T080000
DTEND:20240711T090000
SUMMARY:Breakfast and coffee (in front of the lecture room)
DESCRIPTION:
END:VEVENT
BEGIN:VEVENT
UID:5e26eb5b-e492-4d9e-8018-eb701d51ff0d
DTSTAMP:20231130T161156Z
DTSTART:20240711T090000
DTEND:20240711T100000
SUMMARY:Lecture 2.c: Quastel
DESCRIPTION:Quastel, The KPZ Fixed Point
END:VEVENT
BEGIN:VEVENT
UID:4bfb26c2-c496-4f49-b824-1b62772d1a05
DTSTAMP:20231130T161156Z
DTSTART:20240711T100000
DTEND:20240711T103000
SUMMARY:Coffee Break
DESCRIPTION:
END:VEVENT
BEGIN:VEVENT
UID:a62c5025-4059-4ec2-a3d0-d563476c0bc4
DTSTAMP:20231130T161156Z
DTSTART:20240711T103000
DTEND:20240711T120000
SUMMARY:Problem Session 2.c: Zhang
DESCRIPTION:Zhang, The KPZ Fixed Point
END:VEVENT
BEGIN:VEVENT
UID:63ec1183-a9e7-48b5-be3b-466ffcb675d4
DTSTAMP:20231130T161156Z
DTSTART:20240711T120000
DTEND:20240711T140000
SUMMARY:Lunch: on your own
DESCRIPTION:
END:VEVENT
BEGIN:VEVENT
UID:5b5d8e8f-1f0d-4be6-91c3-e39b782a1778
DTSTAMP:20231130T161156Z
DTSTART:20240711T140000
DTEND:20240711T150000
SUMMARY:Lecture 1.d: Blitvic
DESCRIPTION:Blitvic, Positivity Everywhere
END:VEVENT
BEGIN:VEVENT
UID:beac5016-9f3c-42e5-9c43-007905f73c8c
DTSTAMP:20231130T161156Z
DTSTART:20240711T150000
DTEND:20240711T153000
SUMMARY:Coffee Break
DESCRIPTION:
END:VEVENT
BEGIN:VEVENT
UID:d493655c-486f-42bb-8e09-6066d09512b7
DTSTAMP:20231130T161156Z
DTSTART:20240711T153000
DTEND:20240711T170000
SUMMARY:Problem Session 1.d: Kammoun
DESCRIPTION:Kammoun, Positivity Everywhere
END:VEVENT
BEGIN:VEVENT
UID:7f26ede1-be2f-4733-9474-00bbdd83a8b9
DTSTAMP:20231130T161156Z
DTSTART:20240712T080000
DTEND:20240712T090000
SUMMARY:Breakfast and coffee (in front of the lecture room)
DESCRIPTION:
END:VEVENT
BEGIN:VEVENT
UID:59279f97-6666-403b-b166-b3c1e1b31f47
DTSTAMP:20231130T161156Z
DTSTART:20240712T090000
DTEND:20240712T100000
SUMMARY:Lecture 2.d: Quastel
DESCRIPTION:Quastel, The KPZ Fixed Point
END:VEVENT
BEGIN:VEVENT
UID:e102b766-7d2b-42bc-8e73-45c5a5b2621f
DTSTAMP:20231130T161156Z
DTSTART:20240712T100000
DTEND:20240712T103000
SUMMARY:Coffee Break
DESCRIPTION:
END:VEVENT
BEGIN:VEVENT
UID:e5028582-d57e-4e7f-a770-0df7be4cd29e
DTSTAMP:20231130T161156Z
DTSTART:20240712T103000
DTEND:20240712T113000
SUMMARY:Discussion on AI practices
DESCRIPTION: We will discuss generative AI (chatGPT, etc.) in research, teaching, and administrative tasks. In the first half of the discussion, Everyone is invited to contribute a short AI success story that others can follow. The second half is an open discussion around AI topics.
END:VEVENT
BEGIN:VEVENT
UID:2b3e1866-e90e-4f8a-bafb-6655c71e352d
DTSTAMP:20231130T161156Z
DTSTART:20240712T113000
DTEND:20240712T120000
SUMMARY:Coffee Break
DESCRIPTION:
END:VEVENT
BEGIN:VEVENT
UID:bc133a7e-37aa-438a-97f3-2e7ae760da5f
DTSTAMP:20231130T161156Z
DTSTART:20240712T120000
DTEND:20240712T133000
SUMMARY:Problem Session 2.d: Zhang
DESCRIPTION:Zhang, The KPZ Fixed Point
END:VEVENT
BEGIN:VEVENT
UID:e7dd0c8e-22b3-4d90-bd70-8b3641837a3a
DTSTAMP:20231130T161156Z
DTSTART:20240715T080000
DTEND:20240715T090000
SUMMARY:Breakfast and coffee (in front of the lecture room)
DESCRIPTION:
END:VEVENT
BEGIN:VEVENT
UID:56e7a9bc-d869-4975-ba1d-93ed595d5abc
DTSTAMP:20231130T161156Z
DTSTART:20240715T090000
DTEND:20240715T100000
SUMMARY:Lecture 3.a: Schmid
DESCRIPTION:Schmid, Invariant Measures for Exclusion Processes
END:VEVENT
BEGIN:VEVENT
UID:d86991b4-93cd-4ec2-b972-1fd08588b640
DTSTAMP:20231130T161156Z
DTSTART:20240715T100000
DTEND:20240715T103000
SUMMARY:Coffee Break
DESCRIPTION:
END:VEVENT
BEGIN:VEVENT
UID:72e2d1c6-a803-496c-9b05-2e72caa9b4f9
DTSTAMP:20231130T161156Z
DTSTART:20240715T103000
DTEND:20240715T120000
SUMMARY:Problem Session 3.a: Yang
DESCRIPTION:Yang, Invariant Measures for Exclusion Processes
END:VEVENT
BEGIN:VEVENT
UID:da4e45c2-4ac6-42b4-a7d5-bc138dabe521
DTSTAMP:20231130T161156Z
DTSTART:20240715T120000
DTEND:20240715T140000
SUMMARY:Organized lunch at Newcomb
DESCRIPTION:
END:VEVENT
BEGIN:VEVENT
UID:b9f846d0-4fcc-4c67-8b64-a0a00b8320cf
DTSTAMP:20231130T161156Z
DTSTART:20240715T140000
DTEND:20240715T150000
SUMMARY:Lecture 4.a: Russkikh
DESCRIPTION:Russkikh, Dimers and Embeddings
END:VEVENT
BEGIN:VEVENT
UID:e6e0ca7e-4139-4565-9a65-22f767368796
DTSTAMP:20231130T161156Z
DTSTART:20240715T150000
DTEND:20240715T153000
SUMMARY:Coffee Break
DESCRIPTION:
END:VEVENT
BEGIN:VEVENT
UID:bc7f21e0-87b7-488b-9ca1-92cceb0442e5
DTSTAMP:20231130T161156Z
DTSTART:20240715T153000
DTEND:20240715T170000
SUMMARY:Problem Session 4.a: Nicoletti
DESCRIPTION:Nicoletti, Dimers and Embeddings
END:VEVENT
BEGIN:VEVENT
UID:7b62468b-4edb-4a04-bf9f-a32a3a3b4507
DTSTAMP:20231130T161156Z
DTSTART:20240716T080000
DTEND:20240716T090000
SUMMARY:Breakfast and coffee (in front of the lecture room)
DESCRIPTION:
END:VEVENT
BEGIN:VEVENT
UID:6c67aed7-0ff7-4243-bd3c-adc4f5fdfb57
DTSTAMP:20231130T161156Z
DTSTART:20240716T090000
DTEND:20240716T100000
SUMMARY:Lecture 4.b: Russkikh
DESCRIPTION:Russkikh, Dimers and Embeddings
END:VEVENT
BEGIN:VEVENT
UID:4713bd90-69ed-4d13-b0a9-727b513db8b0
DTSTAMP:20231130T161156Z
DTSTART:20240716T100000
DTEND:20240716T103000
SUMMARY:Coffee Break
DESCRIPTION:
END:VEVENT
BEGIN:VEVENT
UID:6516ddf9-3c56-485e-89e3-d4f1487e3225
DTSTAMP:20231130T161156Z
DTSTART:20240716T103000
DTEND:20240716T120000
SUMMARY:Problem Session 4.b: Nicoletti
DESCRIPTION:Nicoletti, Dimers and Embeddings
END:VEVENT
BEGIN:VEVENT
UID:64af3a45-5081-491a-8776-c471de9a1b48
DTSTAMP:20231130T161156Z
DTSTART:20240716T120000
DTEND:20240716T140000
SUMMARY:Group photo, followed by organized lunch at Newcomb
DESCRIPTION:
END:VEVENT
BEGIN:VEVENT
UID:b44711fa-77ed-44ff-ae0b-13db3c1b19e3
DTSTAMP:20231130T161156Z
DTSTART:20240716T140000
DTEND:20240716T150000
SUMMARY:Lecture 3.b: Schmid
DESCRIPTION:Schmid, Invariant Measures for Exclusion Processes
END:VEVENT
BEGIN:VEVENT
UID:c8753d11-2f2d-45a8-8b8a-01c4a7d46982
DTSTAMP:20231130T161156Z
DTSTART:20240716T150000
DTEND:20240716T153000
SUMMARY:Coffee Break
DESCRIPTION:
END:VEVENT
BEGIN:VEVENT
UID:8b5c7dff-94b4-417e-93e5-50ba8a908112
DTSTAMP:20231130T161156Z
DTSTART:20240716T153000
DTEND:20240716T170000
SUMMARY:Problem Session 3.b: Yang
DESCRIPTION:Yang, Invariant Measures for Exclusion Processes
END:VEVENT
BEGIN:VEVENT
UID:7ac9786b-232f-4fca-8e96-60d816aff065
DTSTAMP:20231130T161156Z
DTSTART:20240717T080000
DTEND:20240717T090000
SUMMARY:Breakfast and coffee (in front of the lecture room)
DESCRIPTION:
END:VEVENT
BEGIN:VEVENT
UID:97e02cbf-81e0-4741-b0f6-0b69e168aa15
DTSTAMP:20231130T161156Z
DTSTART:20240717T090000
DTEND:20240717T100000
SUMMARY:Lecture 3.c: Schmid
DESCRIPTION:Schmid, Invariant Measures for Exclusion Processes
END:VEVENT
BEGIN:VEVENT
UID:afead8cb-9124-4c16-974a-c92fe8603d9d
DTSTAMP:20231130T161156Z
DTSTART:20240717T100000
DTEND:20240717T103000
SUMMARY:Coffee Break
DESCRIPTION:
END:VEVENT
BEGIN:VEVENT
UID:2b7d982b-db6c-4d36-8d2d-4d1a7a62c6d0
DTSTAMP:20231130T161156Z
DTSTART:20240717T103000
DTEND:20240717T113000
SUMMARY:Participant Talks
DESCRIPTION:
END:VEVENT
BEGIN:VEVENT
UID:d4372ae7-9bc5-4f20-858b-222e71a022d5
DTSTAMP:20231130T161156Z
DTSTART:20240717T113000
DTEND:20240717T120000
SUMMARY:Coffee Break
DESCRIPTION:
END:VEVENT
BEGIN:VEVENT
UID:67a28a9c-2208-46a8-be3d-e288d5f4baac
DTSTAMP:20231130T161156Z
DTSTART:20240717T120000
DTEND:20240717T133000
SUMMARY:Problem Session 3.c: Yang
DESCRIPTION:Yang, Invariant Measures for Exclusion Processes
END:VEVENT
BEGIN:VEVENT
UID:291a8b2d-f951-497f-b3a8-af1576da78c3
DTSTAMP:20231130T161156Z
DTSTART:20240718T080000
DTEND:20240718T090000
SUMMARY:Breakfast and coffee (in front of the lecture room)
DESCRIPTION:
END:VEVENT
BEGIN:VEVENT
UID:f62e5591-1590-469a-9b55-c2cfdea018cf
DTSTAMP:20231130T161156Z
DTSTART:20240718T090000
DTEND:20240718T100000
SUMMARY:Lecture 4.c: Russkikh
DESCRIPTION:Russkikh, Dimers and Embeddings
END:VEVENT
BEGIN:VEVENT
UID:46de6784-942e-41d5-b8a9-d229871b00c5
DTSTAMP:20231130T161156Z
DTSTART:20240718T100000
DTEND:20240718T103000
SUMMARY:Coffee Break
DESCRIPTION:
END:VEVENT
BEGIN:VEVENT
UID:15defd44-9bcf-414b-a3a9-729a4024dee0
DTSTAMP:20231130T161156Z
DTSTART:20240718T103000
DTEND:20240718T120000
SUMMARY:Problem Session 4.c: Nicoletti
DESCRIPTION:Nicoletti, Dimers and Embeddings
END:VEVENT
BEGIN:VEVENT
UID:6824e62c-9c8d-4391-9a37-e5c4c36cea47
DTSTAMP:20231130T161156Z
DTSTART:20240718T120000
DTEND:20240718T140000
SUMMARY:Lunch: on your own
DESCRIPTION:
END:VEVENT
BEGIN:VEVENT
UID:8ffe91e9-4465-4c4b-9acd-78de232072e0
DTSTAMP:20231130T161156Z
DTSTART:20240718T140000
DTEND:20240718T150000
SUMMARY:Lecture 3.d: Schmid
DESCRIPTION:Schmid, Invariant Measures for Exclusion Processes
END:VEVENT
BEGIN:VEVENT
UID:8af5a579-bb5e-49b8-9f1d-03b195485d68
DTSTAMP:20231130T161156Z
DTSTART:20240718T150000
DTEND:20240718T153000
SUMMARY:Coffee Break
DESCRIPTION:
END:VEVENT
BEGIN:VEVENT
UID:545ea7e0-19bb-4bd9-81d4-30a399807fae
DTSTAMP:20231130T161156Z
DTSTART:20240718T153000
DTEND:20240718T170000
SUMMARY:Problem Session 3.d: Yang
DESCRIPTION:Yang, Invariant Measures for Exclusion Processes
END:VEVENT
BEGIN:VEVENT
UID:5b706c37-9116-4a5f-96c1-2e5e400db0fa
DTSTAMP:20231130T161156Z
DTSTART:20240719T080000
DTEND:20240719T090000
SUMMARY:Breakfast and coffee (in front of the lecture room)
DESCRIPTION:
END:VEVENT
BEGIN:VEVENT
UID:48cd4d5b-107d-4d4a-8891-ae1e892f1edc
DTSTAMP:20231130T161156Z
DTSTART:20240719T090000
DTEND:20240719T100000
SUMMARY:Lecture 4.d: Russkikh
DESCRIPTION:Russkikh, Dimers and Embeddings
END:VEVENT
BEGIN:VEVENT
UID:f86d9e8f-a571-4ce0-9d65-eace7f0b9c32
DTSTAMP:20231130T161156Z
DTSTART:20240719T100000
DTEND:20240719T103000
SUMMARY:Coffee Break
DESCRIPTION:
END:VEVENT
BEGIN:VEVENT
UID:6073c544-f2d8-44b8-8743-95d2e8a302e3
DTSTAMP:20231130T161156Z
DTSTART:20240719T103000
DTEND:20240719T113000
SUMMARY:Participant Talks
DESCRIPTION:
END:VEVENT
BEGIN:VEVENT
UID:45a42d1d-ae51-4b63-8bf0-d9086a52d538
DTSTAMP:20231130T161156Z
DTSTART:20240719T113000
DTEND:20240719T120000
SUMMARY:Coffee Break
DESCRIPTION:
END:VEVENT
BEGIN:VEVENT
UID:ff9445b5-aaeb-4fa2-86bf-3c606072e4ef
DTSTAMP:20231130T161156Z
DTSTART:20240719T120000
DTEND:20240719T133000
SUMMARY:Problem Session 4.d: Nicoletti
DESCRIPTION:Nicoletti, Dimers and Embeddings
END:VEVENT
END:VCALENDAR
